BEGIN:VCALENDAR
VERSION:2.0
PRODID:-//wp-events-plugin.com//7.2.3.1//EN
BEGIN:VEVENT
UID:189@mergenmetz.nl
DTSTART:20191130T110000Z
DTEND:20191201T160000Z
DTSTAMP:20191120T185033Z
URL:https://mergenmetz.nl/agenda/art-eat-open-dagen-bij-angelique-schmeinc
 k/
SUMMARY:Art & Eat - Open dagen bij Angélique Schmeinck - Culinaire Galerie
  Angélique Schmeinck - 30 nov 19 12:00
DESCRIPTION:Art & Eat\, zo heten de open dagen van meesterkok en creatieve 
 duizendpoot Angélique Schmeinck. Ze kookt in de luchtballon\, maakt voeds
 elschilderijen\, schrijft en fotografeert. Dit moet je zien en beleven.
ATTACH;FMTTYPE=image/jpeg:https://mergenmetz.nl/wp-content/uploads/2019/11
 /Angélique-logo.jpg
CATEGORIES:Event,Open Dag
LOCATION:Culinaire Galerie Angélique Schmeinck\, Bosweg 4\, Velp\, 6881 KK
  \, Nederland
X-APPLE-STRUCTURED-LOCATION;VALUE=URI;X-ADDRESS=Bosweg 4\, Velp\, 6881 KK \
 , Nederland;X-APPLE-RADIUS=100;X-TITLE=Culinaire Galerie Angélique Schmei
 nck:geo:0,0
END:VEVENT
END:VCALENDAR