BEGIN:VCALENDAR
VERSION:2.0
PRODID:-//wp-events-plugin.com//7.2.3.1//EN
BEGIN:VEVENT
UID:166@mergenmetz.nl
DTSTART:20190316T090000Z
DTEND:20190317T160000Z
DTSTAMP:20181114T081658Z
URL:https://mergenmetz.nl/agenda/groenmoes-markt-4/
SUMMARY:Groenmoes Markt - TUINMARKTHALLEN BOEKEL - 16 mrt 19 10:00
DESCRIPTION:De Groenmoes markt is een evenement voor natuurlijk moestuinier
 en\, eerlijk voedsel en regionale betrokkenheid. Tegenhanger voor beurzen 
 als Tuinidee die steeds meer terrasidee worden.
ATTACH;FMTTYPE=image/jpeg:https://mergenmetz.nl/wp-content/uploads/2014/10
 /Groenmoes-Markt-thumb-150x150.jpg
CATEGORIES:Markt,MergenMetz
LOCATION:TUINMARKTHALLEN BOEKEL\, Gemertseweg 9a\, Boekel\, Noord-Brabant\,
  5427 ET \, Nederland
GEO:51.5885087;5.67936050000003
X-APPLE-STRUCTURED-LOCATION;VALUE=URI;X-ADDRESS=Gemertseweg 9a\, Boekel\, N
 oord-Brabant\, 5427 ET \, Nederland;X-APPLE-RADIUS=100;X-TITLE=TUINMARKTHA
 LLEN BOEKEL:geo:51.5885087,5.67936050000003
END:VEVENT
END:VCALENDAR