BEGIN:VCALENDAR
VERSION:2.0
PRODID:-//wp-events-plugin.com//7.2.3.1//EN
BEGIN:VEVENT
UID:163@mergenmetz.nl
DTSTART:20181124T083000Z
DTEND:20181124T160000Z
DTSTAMP:20181016T152522Z
URL:https://mergenmetz.nl/agenda/landelijke-dag-sovon-5/
SUMMARY:Landelijke dag SOVON - Omnisport - 24 nov 18 09:30
DESCRIPTION:Dé dag voor vogelaars. Interessante lezingen\, een uitgebreide
  informatiemarkt en voor de jongeren een apart jeugdprogramma. Sovon organ
 iseert de dag samen met Vogelbescherming Nederland en een aantal andere pa
 rtijen.
ATTACH;FMTTYPE=image/jpeg:https://mergenmetz.nl/wp-content/uploads/2014/11
 /Sovon-vignet-150x150.jpg
CATEGORIES:Event
LOCATION:Omnisport\, De Voorwaarts 55 \, Apeldoorn\, Gld\, 7321MA\, Nederla
 nd
GEO:52.20979330000001;5.995822399999952
X-APPLE-STRUCTURED-LOCATION;VALUE=URI;X-ADDRESS=De Voorwaarts 55 \, Apeldoo
 rn\, Gld\, 7321MA\, Nederland;X-APPLE-RADIUS=100;X-TITLE=Omnisport:geo:52.
 20979330000001,5.995822399999952
END:VEVENT
END:VCALENDAR