BEGIN:VCALENDAR
VERSION:2.0
PRODID:-//wp-events-plugin.com//7.2.3.1//EN
BEGIN:VEVENT
UID:183@mergenmetz.nl
DTSTART:20191130T083000Z
DTEND:20191130T160000Z
DTSTAMP:20191006T070200Z
URL:https://mergenmetz.nl/agenda/landelijke-dag-sovon-6/
SUMMARY:Landelijke dag SOVON - De Reehorst - 30 nov 19 09:30
DESCRIPTION:Dé dag voor vogelaars. Interessante lezingen\, een uitgebreide
  informatiemarkt en voor de jongeren een apart jeugdprogramma. Sovon organ
 iseert de dag samen met Vogelbescherming Nederland en een aantal andere pa
 rtijen.
ATTACH;FMTTYPE=image/jpeg:https://mergenmetz.nl/wp-content/uploads/2014/11
 /Sovon-vignet-150x150.jpg
CATEGORIES:Event
LOCATION:De Reehorst\, Bennekomseweg 24\, Ede\, Nederland
GEO:52.0243948;5.6713311999999405
X-APPLE-STRUCTURED-LOCATION;VALUE=URI;X-ADDRESS=Bennekomseweg 24\, Ede\, Ne
 derland;X-APPLE-RADIUS=100;X-TITLE=De Reehorst:geo:52.0243948,5.6713311999
 999405
END:VEVENT
END:VCALENDAR