BEGIN:VCALENDAR
VERSION:2.0
PRODID:-//wp-events-plugin.com//7.2.3.1//EN
BEGIN:VEVENT
UID:99@mergenmetz.nl
DTSTART:20160618T090000Z
DTEND:20160619T000000Z
DTSTAMP:20160601T185106Z
URL:https://mergenmetz.nl/agenda/midzomernachtfeest-bij-de-ommuurde-tuin/
SUMMARY:Midzomernachtfeest bij De Ommuurde Tuin - De Ommuurde Tuin - 18 jun
  16 10:00
DESCRIPTION:Op 18 juni 2016 is het bij De Ommuurde Tuin in Renkum van 's mo
 rgens 10:00 uur tot 's nachts 01:00 een Midzomernachtfeest. Eten\, muziek\
 , wandelingen\, rondleidingen en meer.
ATTACH;FMTTYPE=image/jpeg:https://mergenmetz.nl/wp-content/uploads/2016/06
 /Midzomernachtfeest_thumb-300x300.jpg
CATEGORIES:Event
LOCATION:De Ommuurde Tuin\, Kortenburg\, Renkum\, Nederland
GEO:51.97702899999999;5.718610000000012
X-APPLE-STRUCTURED-LOCATION;VALUE=URI;X-ADDRESS=Kortenburg\, Renkum\, Neder
 land;X-APPLE-RADIUS=100;X-TITLE=De Ommuurde Tuin:geo:51.97702899999999,5.7
 18610000000012
END:VEVENT
END:VCALENDAR