BEGIN:VCALENDAR
VERSION:2.0
PRODID:-//wp-events-plugin.com//7.2.3.1//EN
BEGIN:VEVENT
UID:139@mergenmetz.nl
DTSTART:20180623T090000Z
DTEND:20180623T160000Z
DTSTAMP:20180618T183932Z
URL:https://mergenmetz.nl/agenda/ons-eigen-evenement-sint-jan/
SUMMARY:Ons eigen evenement: Sint Jan! - De Tuinen van MergenMetz - 23 jun 
 18 10:00
DESCRIPTION:Op 23 juni 2018 is bij MergenMetz voor de derde keer het kleine
 \, fijne Sint Jan-evenement. Een bijzondere dag met groene walnoten\, sint
  janskruid\, sint jansuien en Kwekerij Aroborealis\, rondleidingen en veel
  meer.
ATTACH;FMTTYPE=image/jpeg:https://mergenmetz.nl/wp-content/uploads/2016/02
 /Sint-Janskruid-bloemen-Deborah-Megens.jpg
CATEGORIES:Event,MergenMetz,Planten
LOCATION:De Tuinen van MergenMetz\, Utrechtseweg 433\, Doorwerth\, 6865 CL\
 , Nederland
GEO:51.9842169;5.780734100000018
X-APPLE-STRUCTURED-LOCATION;VALUE=URI;X-ADDRESS=Utrechtseweg 433\, Doorwert
 h\, 6865 CL\, Nederland;X-APPLE-RADIUS=100;X-TITLE=De Tuinen van MergenMet
 z:geo:51.9842169,5.780734100000018
END:VEVENT
END:VCALENDAR