BEGIN:VCALENDAR
VERSION:2.0
PRODID:-//wp-events-plugin.com//7.2.3.1//EN
BEGIN:VEVENT
UID:435@mergenmetz.nl
DTSTART;VALUE=DATE:20260912
DTEND;VALUE=DATE:20260914
DTSTAMP:20260322T070155Z
URL:https://mergenmetz.nl/agenda/tuin-en-plantendagen-kasteel-hex-12/
SUMMARY:Tuin- en plantendagen Kasteel Hex - Kasteel Hex - 12 sep 26 00:00
DESCRIPTION:Op zaterdag 12 en zondag 13 september zijn de Hex tuindagen 202
 6. Het park en natuurlijk de moestuin van het kasteel zijn dan opnieuw ope
 n voor bezoekers. Het leukste tuinevenement dat we kennen. Je moet er eens
  zijn geweest.
ATTACH;FMTTYPE=image/jpeg:https://mergenmetz.nl/wp-content/uploads/2023/10
 /Hex-2024-thumb-scaled.jpg
CATEGORIES:Event,Markt
LOCATION:Kasteel Hex\, Meerstraat\, Heers\, 3870\, België
GEO:50.7682446;5.365008799999941
X-APPLE-STRUCTURED-LOCATION;VALUE=URI;X-ADDRESS=Meerstraat\, Heers\, 3870\,
  België;X-APPLE-RADIUS=100;X-TITLE=Kasteel Hex:geo:50.7682446,5.365008799
 999941
END:VEVENT
END:VCALENDAR