BEGIN:VCALENDAR
VERSION:2.0
PRODID:-//wp-events-plugin.com//7.2.3.1//EN
BEGIN:VEVENT
UID:197@mergenmetz.nl
DTSTART;VALUE=DATE:20210911
DTEND;VALUE=DATE:20210913
DTSTAMP:20210202T102936Z
URL:https://mergenmetz.nl/agenda/tuin-en-plantendagen-kasteel-hex-5/
SUMMARY:Tuin- en plantendagen Kasteel Hex - Kasteel Hex - 11 sep 21 00:00
DESCRIPTION:Op zaterdag 11 en zondag 12 september 2021 zijn de tuinen\, het
  park en natuurlijk de moestuin van het kasteel Hex opnieuw open voor bezo
 ekers. Een bijzonder tuinevenement met curieuze deelnemers. Zoals wij.
ATTACH;FMTTYPE=image/jpeg:https://mergenmetz.nl/wp-content/uploads/2020/06
 /Hex-thumb-2021-scaled.jpg
CATEGORIES:Markt
LOCATION:Kasteel Hex\, Meerstraat\, Heers\, 3870\, België
GEO:50.7682446;5.365008799999941
X-APPLE-STRUCTURED-LOCATION;VALUE=URI;X-ADDRESS=Meerstraat\, Heers\, 3870\,
  België;X-APPLE-RADIUS=100;X-TITLE=Kasteel Hex:geo:50.7682446,5.365008799
 999941
END:VEVENT
END:VCALENDAR