BEGIN:VCALENDAR
VERSION:2.0
PRODID:-//wp-events-plugin.com//7.2.3.1//EN
BEGIN:VEVENT
UID:414@mergenmetz.nl
DTSTART:20251011T130000Z
DTEND:20251011T161700Z
DTSTAMP:20250602T180304Z
URL:https://mergenmetz.nl/agenda/van-stam-tot-zwam-workshop-paddenstoelen-
 enten-2/
SUMMARY:Van Stam tot Zwam - Workshop paddenstoelen enten - De Tuinen van Me
 rgenMetz - 11 okt 25 14:00
DESCRIPTION:Paddenstoelen zijn gezond\, een goede vleesvervanger en makkeli
 jk te zelf te telen. Als je weet hoe! En vooral waarom? Samen met Pip Gilm
 ore organiseren we een workshop waarbij alles fijntjes uit de doeken wordt
  gedaan. Leuk en leerzaam.
ATTACH;FMTTYPE=image/jpeg:https://mergenmetz.nl/wp-content/uploads/2019/01
 /Van-stam-tot-zwam_thumb-1500x1500.jpg
CATEGORIES:MergenMetz,Workshop/Training
LOCATION:De Tuinen van MergenMetz\, Utrechtseweg 433\, Doorwerth\, 6865 CL\
 , Nederland
GEO:51.9842169;5.780734100000018
X-APPLE-STRUCTURED-LOCATION;VALUE=URI;X-ADDRESS=Utrechtseweg 433\, Doorwert
 h\, 6865 CL\, Nederland;X-APPLE-RADIUS=100;X-TITLE=De Tuinen van MergenMet
 z:geo:51.9842169,5.780734100000018
END:VEVENT
END:VCALENDAR