BEGIN:VCALENDAR
VERSION:2.0
PRODID:-//wp-events-plugin.com//7.2.3.1//EN
BEGIN:VEVENT
UID:19@mergenmetz.nl
DTSTART;VALUE=DATE:20140927
DTEND;VALUE=DATE:20141006
DTSTAMP:20140627T170951Z
URL:https://mergenmetz.nl/agenda/week-van-de-smaak/
SUMMARY:Week van de Smaak -  - 27 sep 14 00:00
DESCRIPTION:De Week van de Smaak is de lekkerste week van het jaar\, met ho
 nderden activiteiten door het hele land. Bedrijven\, ziekenhuizen\, restau
 rants\, buurthuizen en scholen doen mee met proeverijen\, streekmenu’s\,
  open dagen en smaakfestijnen voor jong en oud.
ATTACH;FMTTYPE=image/jpeg:https://mergenmetz.nl/wp-content/uploads/2014/06
 /Week-van-de-Smaak_thumb-150x150.jpg
CATEGORIES:Event,Markt
END:VEVENT
END:VCALENDAR