BEGIN:VCALENDAR
VERSION:2.0
PRODID:-//wp-events-plugin.com//7.2.3.1//EN
BEGIN:VEVENT
UID:309@mergenmetz.nl
DTSTART:20240414T093000Z
DTEND:20240414T150000Z
DTSTAMP:20240331T164720Z
URL:https://mergenmetz.nl/agenda/workshop-cyanotypie-blauwdrukken-met-plan
 ten-2/
SUMMARY:Workshop 'Cyanotypie (blauwdrukken) met planten' - De Tuinen van Me
 rgenMetz - 14 apr 24 10:30
DESCRIPTION:Cyanotypie is een fascinerende manier om je eigen fotografische
  prints te maken. Met gebruik van lichtgevoelig papier en UV licht kun je 
 prachtige afdrukken in een Pruisisch blauwe kleur maken. En dat zonder cam
 era!
ATTACH;FMTTYPE=image/jpeg:https://mergenmetz.nl/wp-content/uploads/2023/12
 /cyanotype-1-vierkant.jpg
CATEGORIES:Workshop/Training
LOCATION:De Tuinen van MergenMetz\, Utrechtseweg 433\, Doorwerth\, 6865 CL\
 , Nederland
GEO:51.9842169;5.780734100000018
X-APPLE-STRUCTURED-LOCATION;VALUE=URI;X-ADDRESS=Utrechtseweg 433\, Doorwert
 h\, 6865 CL\, Nederland;X-APPLE-RADIUS=100;X-TITLE=De Tuinen van MergenMet
 z:geo:51.9842169,5.780734100000018
END:VEVENT
END:VCALENDAR