BEGIN:VCALENDAR
VERSION:2.0
PRODID:-//wp-events-plugin.com//7.2.3.1//EN
BEGIN:VEVENT
UID:22@mergenmetz.nl
DTSTART:20140711T123000Z
DTEND:20140712T143000Z
DTSTAMP:20140703T090608Z
URL:https://mergenmetz.nl/agenda/workshop-jam-zonder-suiker/
SUMMARY:Workshop jam zonder suiker - Keuken Boerenstee  - 11 jul 14 13:30
DESCRIPTION:Tijdens Boergondische Sferen verzorgt Cokkie van Leeuwen van Fr
 utti Confetti op beide dagen drie maal een inloopworkshop jam of confiture
 s maken - zonder suiker.
ATTACH;FMTTYPE=image/jpeg:https://mergenmetz.nl/wp-content/uploads/2014/07
 /workshop-Cokkie-150x150.jpg
CATEGORIES:Kookworkshop
LOCATION:Keuken Boerenstee \, De Steeg 6\, Woudenberg\, 3931 PM \, Nederlan
 d
GEO:52.0613666;5.476313399999981
X-APPLE-STRUCTURED-LOCATION;VALUE=URI;X-ADDRESS=De Steeg 6\, Woudenberg\, 3
 931 PM \, Nederland;X-APPLE-RADIUS=100;X-TITLE=Keuken Boerenstee :geo:52.0
 613666,5.476313399999981
END:VEVENT
END:VCALENDAR