BEGIN:VCALENDAR
VERSION:2.0
PRODID:-//wp-events-plugin.com//7.2.3.1//EN
BEGIN:VEVENT
UID:34@mergenmetz.nl
DTSTART:20141005T123000Z
DTEND:20141005T160000Z
DTSTAMP:20140921T141651Z
URL:https://mergenmetz.nl/agenda/workshop-kweeperen-frutti-confetti-2/
SUMMARY:Workshop kweeperen Frutti Confetti - La Tertulia - 5 okt 14 13:30
DESCRIPTION:Op 1\, 5 en 8 oktober2014 wordt op drie plaatsen in Nederland d
 oor Frutti Confetti een allesomvattende workshop rond de kweepeer gegeven.
  
ATTACH;FMTTYPE=image/jpeg:https://mergenmetz.nl/wp-content/uploads/2012/05
 /Kweepeeratelier_thumb.jpg
CATEGORIES:Kookworkshop
LOCATION:La Tertulia\, Hantert 6\, Sint Agatha (Cuijk)\, 5435 XB \, Nederla
 nd
GEO:51.7126763;5.89937580000003
X-APPLE-STRUCTURED-LOCATION;VALUE=URI;X-ADDRESS=Hantert 6\, Sint Agatha (Cu
 ijk)\, 5435 XB \, Nederland;X-APPLE-RADIUS=100;X-TITLE=La Tertulia:geo:51.
 7126763,5.89937580000003
END:VEVENT
END:VCALENDAR