BEGIN:VCALENDAR
VERSION:2.0
PRODID:-//wp-events-plugin.com//7.2.3.1//EN
BEGIN:VEVENT
UID:303@mergenmetz.nl
DTSTART:20240727T123000Z
DTEND:20240727T153000Z
DTSTAMP:20240429T111126Z
URL:https://mergenmetz.nl/agenda/workshop-pluk-en-print-2/
SUMMARY:Workshop 'Pluk en Print' met Pietje Snijders - De Tuinen van Mergen
 Metz - 27 jul 24 13:30
DESCRIPTION:Op 27 juli 2024 is er bij De Tuinen van MergenMetz een workshop
  'pluk en print'. Met verf en elementen uit de natuur op een creatieve wij
 ze en onder deskundige begeleiding op papier schilderen.
ATTACH;FMTTYPE=image/jpeg:https://mergenmetz.nl/wp-content/uploads/2022/08
 /Printen-met-planten-thumb.jpg
CATEGORIES:MergenMetz,Workshop/Training
LOCATION:De Tuinen van MergenMetz\, Utrechtseweg 433\, Doorwerth\, 6865 CL\
 , Nederland
GEO:51.9842169;5.780734100000018
X-APPLE-STRUCTURED-LOCATION;VALUE=URI;X-ADDRESS=Utrechtseweg 433\, Doorwert
 h\, 6865 CL\, Nederland;X-APPLE-RADIUS=100;X-TITLE=De Tuinen van MergenMet
 z:geo:51.9842169,5.780734100000018
END:VEVENT
END:VCALENDAR