BEGIN:VCALENDAR
VERSION:2.0
PRODID:-//wp-events-plugin.com//7.2.3.1//EN
BEGIN:VEVENT
UID:254@mergenmetz.nl
DTSTART:20230507T123000Z
DTEND:20230507T153000Z
DTSTAMP:20230415T131234Z
URL:https://mergenmetz.nl/agenda/workshop-pluk-print/
SUMMARY:Workshop 'Pluk & Print' - De Tuinen van MergenMetz - 7 mei 23 13:30
DESCRIPTION:Op 7 mei 2023 is er bij De Tuinen van MergenMetz een workshop'p
 luk & print'. Met verf en elementen uit de natuur op een creatieve wijze e
 n onder deskundige begeleiding op papier schilderen.
ATTACH;FMTTYPE=image/jpeg:https://mergenmetz.nl/wp-content/uploads/2022/08
 /Printen-met-planten-thumb.jpg
CATEGORIES:MergenMetz,Uitgelicht,Workshop/Training
LOCATION:De Tuinen van MergenMetz\, Utrechtseweg 433\, Doorwerth\, 6865 CL\
 , Nederland
GEO:51.9842169;5.780734100000018
X-APPLE-STRUCTURED-LOCATION;VALUE=URI;X-ADDRESS=Utrechtseweg 433\, Doorwert
 h\, 6865 CL\, Nederland;X-APPLE-RADIUS=100;X-TITLE=De Tuinen van MergenMet
 z:geo:51.9842169,5.780734100000018
END:VEVENT
END:VCALENDAR