BEGIN:VCALENDAR
VERSION:2.0
PRODID:-//wp-events-plugin.com//7.2.3.1//EN
BEGIN:VEVENT
UID:215@mergenmetz.nl
DTSTART:20211030T123000Z
DTEND:20211030T163000Z
DTSTAMP:20211011T170946Z
URL:https://mergenmetz.nl/agenda/workshop-verse-worst-maken-6/
SUMMARY:Workshop verse worst maken - MergenMetz - 30 okt 21 13:30
DESCRIPTION:Op 30 oktober 2021 verzorgt MergenMetz een basis worskshop wors
 t maken. Verse worst (braadworst). Venkelworst\, chorizo\, met kaas of wat
  dan ook. We gaan er verschillende maken en iedere deelnemer krijgt een pa
 k worst mee naar huis.
ATTACH;FMTTYPE=image/jpeg:https://mergenmetz.nl/wp-content/uploads/2016/02
 /Worst-maken_thumb-300x300.jpg
CATEGORIES:MergenMetz,Workshop/Training
LOCATION:MergenMetz\, Utrechtseweg 433\, Doorwerth\, 6865 CL\, Nederland
GEO:51.9842169;5.780734100000018
X-APPLE-STRUCTURED-LOCATION;VALUE=URI;X-ADDRESS=Utrechtseweg 433\, Doorwert
 h\, 6865 CL\, Nederland;X-APPLE-RADIUS=100;X-TITLE=MergenMetz:geo:51.98421
 69,5.780734100000018
END:VEVENT
END:VCALENDAR