BEGIN:VCALENDAR
VERSION:2.0
PRODID:-//wp-events-plugin.com//7.2.3.1//EN
BEGIN:VEVENT
UID:422@mergenmetz.nl
DTSTART;VALUE=DATE:20250927
DTEND;VALUE=DATE:20250928
DTSTAMP:20250925T095310Z
URL:https://mergenmetz.nl/agenda/xeno-munninghoff-mergenmetz/
SUMMARY:Meubels & Münninghoff bij MergenMetz - De Tuinen van MergenMetz - 
 27 sep 25 00:00
DESCRIPTION:Remi Viellevoye verzorgt deze dag twee lezingen over Xeno Münn
 inghoff. De schilderijen zijn in het kader van Open Monumentendag 2025 tij
 delijk bij MergenMetz te zien. En wat is er leuker dan ook over deze schil
 der te horen?
ATTACH;FMTTYPE=image/jpeg:https://mergenmetz.nl/wp-content/uploads/2025/08
 /Xeno-Munninghoff-Simonis-Buunk-thumb.jpg
CATEGORIES:Event,MergenMetz,Pelshoeve
LOCATION:De Tuinen van MergenMetz\, Utrechtseweg 433\, Doorwerth\, 6865 CL\
 , Nederland
GEO:51.9842169;5.780734100000018
X-APPLE-STRUCTURED-LOCATION;VALUE=URI;X-ADDRESS=Utrechtseweg 433\, Doorwert
 h\, 6865 CL\, Nederland;X-APPLE-RADIUS=100;X-TITLE=De Tuinen van MergenMet
 z:geo:51.9842169,5.780734100000018
END:VEVENT
END:VCALENDAR