BEGIN:VCALENDAR
VERSION:2.0
PRODID:-//wp-events-plugin.com//7.2.3.1//EN
BEGIN:VEVENT
UID:147@mergenmetz.nl
DTSTART:20180211T090000Z
DTEND:20180211T160000Z
DTSTAMP:20180206T111628Z
URL:https://mergenmetz.nl/agenda/zadenbeurs-t-grom/
SUMMARY:Zadenbeurs 't Grom - 't Grom - 11 feb 18 10:00
DESCRIPTION:Zondag 11 februari 2018 gooit ’t Grom de deuren open voor het
  nieuwe seizoen. En dat doet ze met de derde editie van haar zadenbeurs.
ATTACH;FMTTYPE=image/jpeg:https://mergenmetz.nl/wp-content/uploads/2018/02
 /t-Grom-Logo-300x300.jpg
CATEGORIES:Markt
LOCATION:'t Grom\, Midzelen 25a\, Sint-Katelijne-Waver\, 2860 \, België
GEO:51.0611241;4.501808600000004
X-APPLE-STRUCTURED-LOCATION;VALUE=URI;X-ADDRESS=Midzelen 25a\, Sint-Katelij
 ne-Waver\, 2860 \, België;X-APPLE-RADIUS=100;X-TITLE='t Grom:geo:51.06112
 41,4.501808600000004
END:VEVENT
END:VCALENDAR